BEGIN:VCALENDAR
VERSION:2.0
PRODID:-//Canadian Vintage Radio Society - ECPv6.15.20//NONSGML v1.0//EN
CALSCALE:GREGORIAN
METHOD:PUBLISH
X-ORIGINAL-URL:https://canadianvintageradio.com
X-WR-CALDESC:Events for Canadian Vintage Radio Society
REFRESH-INTERVAL;VALUE=DURATION:PT1H
X-Robots-Tag:noindex
X-PUBLISHED-TTL:PT1H
BEGIN:VTIMEZONE
TZID:America/Vancouver
BEGIN:DAYLIGHT
TZOFFSETFROM:-0800
TZOFFSETTO:-0700
TZNAME:PDT
DTSTART:20240310T100000
END:DAYLIGHT
BEGIN:STANDARD
TZOFFSETFROM:-0700
TZOFFSETTO:-0800
TZNAME:PST
DTSTART:20241103T090000
END:STANDARD
BEGIN:DAYLIGHT
TZOFFSETFROM:-0800
TZOFFSETTO:-0700
TZNAME:PDT
DTSTART:20250309T100000
END:DAYLIGHT
BEGIN:STANDARD
TZOFFSETFROM:-0700
TZOFFSETTO:-0800
TZNAME:PST
DTSTART:20251102T090000
END:STANDARD
BEGIN:DAYLIGHT
TZOFFSETFROM:-0800
TZOFFSETTO:-0700
TZNAME:PDT
DTSTART:20260308T100000
END:DAYLIGHT
BEGIN:STANDARD
TZOFFSETFROM:-0700
TZOFFSETTO:-0800
TZNAME:PST
DTSTART:20261101T090000
END:STANDARD
END:VTIMEZONE
BEGIN:VTIMEZONE
TZID:America/Edmonton
BEGIN:DAYLIGHT
TZOFFSETFROM:-0700
TZOFFSETTO:-0600
TZNAME:MDT
DTSTART:20240310T090000
END:DAYLIGHT
BEGIN:STANDARD
TZOFFSETFROM:-0600
TZOFFSETTO:-0700
TZNAME:MST
DTSTART:20241103T080000
END:STANDARD
BEGIN:DAYLIGHT
TZOFFSETFROM:-0700
TZOFFSETTO:-0600
TZNAME:MDT
DTSTART:20250309T090000
END:DAYLIGHT
BEGIN:STANDARD
TZOFFSETFROM:-0600
TZOFFSETTO:-0700
TZNAME:MST
DTSTART:20251102T080000
END:STANDARD
BEGIN:DAYLIGHT
TZOFFSETFROM:-0700
TZOFFSETTO:-0600
TZNAME:MDT
DTSTART:20260308T090000
END:DAYLIGHT
BEGIN:STANDARD
TZOFFSETFROM:-0600
TZOFFSETTO:-0700
TZNAME:MST
DTSTART:20261101T080000
END:STANDARD
END:VTIMEZONE
BEGIN:VEVENT
DTSTART;TZID=America/Vancouver:20251116T120000
DTEND;TZID=America/Vancouver:20251116T120000
DTSTAMP:20260422T062725
CREATED:20250519T155621Z
LAST-MODIFIED:20250801T202938Z
UID:34597-1763294400-1763294400@canadianvintageradio.com
SUMMARY:BC Lower Mainland Swap Meet
DESCRIPTION:No admission fee\n5 dollar table charge for sellers.\nTime will be from 12 noon to 2pm\nBest shopping is within the first hour.\nGet there early.
URL:https://canadianvintageradio.com/event/bclm-chapter-meeting/
LOCATION:Charles Rummel Center\, 3630 Lozell Ave\, Burnaby\, BC\, Canada
END:VEVENT
BEGIN:VEVENT
DTSTART;TZID=America/Edmonton:20251123T130000
DTEND;TZID=America/Edmonton:20251123T150000
DTSTAMP:20260422T062725
CREATED:20250822T185251Z
LAST-MODIFIED:20250822T185251Z
UID:34830-1763902800-1763910000@canadianvintageradio.com
SUMMARY:Edmonton - November 2025 meeting.
DESCRIPTION:  \nADDRESS:  The Telus Ambassador’s Workshop\nUnit 101 – 10459 178 Street\, Edmonton.
URL:https://canadianvintageradio.com/event/edmonton-november-2025-meeting/
LOCATION:TCA\, 10459 178 St. NW\, Edmonton\, Alberta\, T5S 1R5\, Canada
CATEGORIES:Alberta
END:VEVENT
END:VCALENDAR