BEGIN:VCALENDAR
VERSION:2.0
PRODID:-//Canadian Vintage Radio Society - ECPv6.15.20//NONSGML v1.0//EN
CALSCALE:GREGORIAN
METHOD:PUBLISH
X-WR-CALNAME:Canadian Vintage Radio Society
X-ORIGINAL-URL:https://canadianvintageradio.com
X-WR-CALDESC:Events for Canadian Vintage Radio Society
REFRESH-INTERVAL;VALUE=DURATION:PT1H
X-Robots-Tag:noindex
X-PUBLISHED-TTL:PT1H
BEGIN:VTIMEZONE
TZID:America/Vancouver
BEGIN:DAYLIGHT
TZOFFSETFROM:-0800
TZOFFSETTO:-0700
TZNAME:PDT
DTSTART:20240310T100000
END:DAYLIGHT
BEGIN:STANDARD
TZOFFSETFROM:-0700
TZOFFSETTO:-0800
TZNAME:PST
DTSTART:20241103T090000
END:STANDARD
BEGIN:DAYLIGHT
TZOFFSETFROM:-0800
TZOFFSETTO:-0700
TZNAME:PDT
DTSTART:20250309T100000
END:DAYLIGHT
BEGIN:STANDARD
TZOFFSETFROM:-0700
TZOFFSETTO:-0800
TZNAME:PST
DTSTART:20251102T090000
END:STANDARD
BEGIN:DAYLIGHT
TZOFFSETFROM:-0800
TZOFFSETTO:-0700
TZNAME:PDT
DTSTART:20260308T100000
END:DAYLIGHT
BEGIN:STANDARD
TZOFFSETFROM:-0700
TZOFFSETTO:-0800
TZNAME:PST
DTSTART:20261101T090000
END:STANDARD
END:VTIMEZONE
BEGIN:VEVENT
DTSTART;TZID=America/Vancouver:20250608T120000
DTEND;TZID=America/Vancouver:20250608T150000
DTSTAMP:20260422T151023
CREATED:20250527T180511Z
LAST-MODIFIED:20250527T180511Z
UID:34619-1749384000-1749394800@canadianvintageradio.com
SUMMARY:SPARC Radio Museum Sale of Duplicate Items
DESCRIPTION:SPARC Radio Museum will hold a sale of duplicate items at the museum (Essondale Grounds\, Colony Farm Road and Lougheed Highway). \n\nradios\,\ntape players\,\ntube testers\,\nmany electronic items\n\nMAP \n 
URL:https://canadianvintageradio.com/event/sparc-radio-museum-sale-of-duplicate-items/
LOCATION:SPARC Radio Museum\, Coquitlam\, BC\, Canada
END:VEVENT
END:VCALENDAR